BEGIN:VCALENDAR
VERSION:2.0
PRODID:-//Lxandra//NONSGML Lxandra//EN
METHOD:PUBLISH
BEGIN:VEVENT
UID:20260421T122249Z-2012868153-www.lxandramusic.com
URL:https://www.lxandramusic.com/dates/lxandra-dates-15-mar-2023-fi-helsink-2--5-.html
DTSTAMP:20260421T122249Z
DTSTART:20230315T200000Z
DTEND:20230315T200000Z
SUMMARY:LXANDRA | Dates | 15 Mar 2023 (FI) Helsinki\, Tavastia
DESCRIPTION:For tickets and more Lxandra-dates check https://www.lxandramusic.com/dates/
LOCATION:Tavastia\, Helsinki\, Finland
END:VEVENT
END:VCALENDAR
